BEGIN:VCALENDAR
VERSION:2.0
PRODID:-//CiviCRM//NONSGML CiviEvent iCal//EN
X-WR-TIMEZONE:America/New_York
METHOD:PUBLISH
BEGIN:VTIMEZONE
TZID:America/New_York
BEGIN:DAYLIGHT
TZOFFSETFROM:-0400
TZOFFSETTO:-0400
TZNAME:EDT
DTSTART:20260516T093000
END:DAYLIGHT
END:VTIMEZONE
BEGIN:VEVENT
UID:CiviCRM_EventID_1_261ebe326db93c7e77050481629c9dc7@solarkentucky.civicrm.org
SUMMARY:KYSES 2026 Solar Summit & Annual Meeting
X-ALT-DESC;FMTTYPE=text/html:<!DOCTYPE HTML PUBLIC
  "-//W3C//DTD HTML 3.2//EN"><html><body><p><strong
 >Program Highlights:</strong></p>\n \n <p>Communit
 y-Based Programs - Solarize Lexington and Louisvil
 le\, HOMES Inc. Net Zero Homes in Whitesburg\, KY<
 /p>\n \n <p>Catholic Diocese of Lexington's Net-Ze
 ro by 2030 Plan with Bishop John Stowe and Josh Va
 n Cleef</p>\n \n <p>Technology & Case Study Spotli
 ght</p>\n \n <p>Utility Scale Solar</p>\n \n <p>En
 ergy Policy Issues</p>\n \n <p>The KYSES Annual Me
 mber Meeting will follow the educational sessions.
 </p>\n \n <p><strong>Lunch and refreshments provid
 ed with registration. </strong></p>\n \n <p><stron
 g>Exhibitor Tables Available -  </strong>$200 for 
 businesses or public agencies. Free to non-profit 
 community organizations.</p>\n \n <p>To reserve an
  Exhibitor table\, please contact Andy McDobald at
  andy@apogeeclimate.org or 502-699-2553.</p>\n \n 
 <p><strong>Thank you to our Sponsors!  </strong></
 p>\n \n <p><em><strong>Catholic Diocese of Lexingt
 on</strong></em></p>\n \n <p><em><strong>Apogee - 
 Climate & Energy Transitions</strong></em></p>\n \
 n <p><em><strong>Earth Tools Inc.</strong></em></p
 ></body></html>
DESCRIPTION:Program Highlights:\n \n \n \n Community-Based Pro
 grams - Solarize Lexington and Louisville\, HOMES 
 Inc. Net Zero Homes in Whitesburg\, KY\n \n \n \n 
 Catholic Diocese of Lexington's Net-Zero by 2030 P
 lan with Bishop John Stowe and Josh Van Cleef\n \n
  \n \n Technology & Case Study Spotlight\n \n \n \
 n Utility Scale Solar\n \n \n \n Energy Policy Iss
 ues\n \n \n \n The KYSES Annual Member Meeting wil
 l follow the educational sessions.\n \n \n \n Lunc
 h and refreshments provided with registration. \n 
 \n \n \n Exhibitor Tables Available -  $200 for bu
 sinesses or public agencies. Free to non-profit co
 mmunity organizations.\n \n \n \n To reserve an Ex
 hibitor table\, please contact Andy McDobald at an
 dy@apogeeclimate.org or 502-699-2553.\n \n \n \n T
 hank you to our Sponsors!  \n \n \n \n Catholic Di
 ocese of Lexington\n \n \n \n Apogee - Climate & E
 nergy Transitions\n \n \n \n Earth Tools Inc.\n \n
  
CATEGORIES:Conference
CALSCALE:GREGORIAN
DTSTAMP;TZID=America/New_York:20260516T093000
DTSTART;TZID=America/New_York:20260516T093000
DTEND;TZID=America/New_York:20260516T170000
LOCATION:Cathedral of Christ the King\, 299 Colony Blvd.\n 
 Lexington\, KY 40502\n United States\n 
URL:https://solarkentucky.civicrm.org/civicrm/event/info?reset=1&id=1
END:VEVENT
END:VCALENDAR
